BEGIN:VCALENDAR
VERSION:2.0
PRODID:-//Skrzydlate Wakacje - ECPv6.15.18//NONSGML v1.0//EN
CALSCALE:GREGORIAN
METHOD:PUBLISH
X-WR-CALNAME:Skrzydlate Wakacje
X-ORIGINAL-URL:https://skrzydlatewakacje.pl
X-WR-CALDESC:Wydarzenia dla Skrzydlate Wakacje
REFRESH-INTERVAL;VALUE=DURATION:PT1H
X-Robots-Tag:noindex
X-PUBLISHED-TTL:PT1H
BEGIN:VTIMEZONE
TZID:Europe/Warsaw
BEGIN:DAYLIGHT
TZOFFSETFROM:+0100
TZOFFSETTO:+0200
TZNAME:CEST
DTSTART:20240331T010000
END:DAYLIGHT
BEGIN:STANDARD
TZOFFSETFROM:+0200
TZOFFSETTO:+0100
TZNAME:CET
DTSTART:20241027T010000
END:STANDARD
BEGIN:DAYLIGHT
TZOFFSETFROM:+0100
TZOFFSETTO:+0200
TZNAME:CEST
DTSTART:20250330T010000
END:DAYLIGHT
BEGIN:STANDARD
TZOFFSETFROM:+0200
TZOFFSETTO:+0100
TZNAME:CET
DTSTART:20251026T010000
END:STANDARD
BEGIN:DAYLIGHT
TZOFFSETFROM:+0100
TZOFFSETTO:+0200
TZNAME:CEST
DTSTART:20260329T010000
END:DAYLIGHT
BEGIN:STANDARD
TZOFFSETFROM:+0200
TZOFFSETTO:+0100
TZNAME:CET
DTSTART:20261025T010000
END:STANDARD
END:VTIMEZONE
BEGIN:VEVENT
DTSTART;TZID=Europe/Warsaw:20250217T100000
DTEND;TZID=Europe/Warsaw:20250222T150000
DTSTAMP:20260425T173847
CREATED:20241110T204236Z
LAST-MODIFIED:20241124T153209Z
UID:10000080-1739786400-1740236400@skrzydlatewakacje.pl
SUMMARY:Zimowa Komańcza 2025 - zimowisko dla dzieci
DESCRIPTION:Zimowa Komańcza\n– ferie dla dzieci w wieku 7 – 12 lat.\nFerie\, choć krótkie\, mogą być czasem aktywnego odpoczynku i zabawy. Jak co roku zapraszamy na Skrzydlate Zimowisko. Jeśli marzysz o niezapomnianych feriach zimowych pełnych śnieżnych atrakcji\, spotkań z przyjaciółmi i wspaniałych wspomnień? Dołącz do nas na zimowisku w Komańczy! Czekają nas ekscytujące zajęcia na świeżym powietrzu\, kulig\, wieczorne ognisko i spacery\, basen\, warsztaty oraz wiele więcej. Nie przegap okazji na najlepsze zimowe wakacje w Twoim życiu! Zimowisko w Komańczy – Twoja zimowa przygoda czeka!\n \nZapraszamy do wypełnienia formularza uczestnictwawyślij zgłoszeniewyślij zgłoszenie\nAtrakcjeKosztyZakwaterowanieTransportExtra DokumentyAtrakcje \n\nBiałe szaleństwo na nartach (zajęcia z instruktorem\, tylko dla osób jeżdżących) – dla chętnych;\nSpotkanie z bieszczadzkimi Alpakami;\nKrótkie spacery zimowymi ścieżkami;\nKulig i zabawy na śniegu\, zawody w zjeździe na byle czym;\nSpotkanie z duchem w ruinach klasztoru w Zagórzu;\nZwiedzanie skansenu w Sanoku;\nzajęcia na basenie i spotkanie w słodkim domku;\nDyskoteka i ognisko;\nNiezapomniane pogodne wieczory oraz poczta chochlikowa i cichym przyjacielem;\nkonkurs talentów – Mam talent.\n\nKoszty\nCena: 2100 zł obejmuje: ubezpieczenie\, przejazd\, zakwaterowanie\, wyżywienie\, opiekę wykwalifikowanej i doświadczonej kadry pedagogicznej\, atrakcje zawarte w programie skrzydlatego zimowiska (z wyłączeniem zajęć narciarskich na stoku); \nZajęcia narciarskie dla chętnych – po zebraniu się grupy\, dopłata w wysokości 500 zł. \nAby pojechać z nami na skrzydlate zimowisko należy: \n\nWpłacić bezzwrotną zaliczkę w wysokości 500 zł która jest warunkiem wpisania na listę.\n1 rata w wysokości 1000 zł płatna do dnia 10 stycznia 2025\nPełnej wpłaty należy dokonać do dnia 1 lutego 2025 roku na konto UCZNIOWSKIEGO KLUBU SPORTOWEGO SKRZYDŁA (ul. Jutrzenki 24\, 20-538 Lublin)\nBank Pekao SA 13 1240 5497 1111 0011 0207 0632 – z dopiskiem „Komańcza ferie 2025”\n\nZakwaterowanie\nZakwaterowanie: Hotel Pod Kominkiem; Komańcza 133; 38-543 Komańcza. W pokojach 2-4 osobowych wyposażonych w pełny węzeł sanitarny. \nWyżywienie: Pełne 3 posiłki dziennie (śniadanie\, obiad\, kolacja).Transport Wynajmowany przez nas autokar należy do firmy ArjaBus\, z którą współpracujemy od 2013 roku. Firma posiada licencję na przewóz osób\, oraz  potrzebne dokumenty zezwalające na przewóz osób na terenie Polski i Europy. Extra  \nKadrę obozu stanowią osoby z wieloletnim doświadczeniem pedagogicznym i obozowym. \nDokumenty\nPobierz i wypełnij: kartę kwalifikacyjną uczestnika obozu oraz złóż ją przy zapisie. Karta jest warunkiem dopuszczenia dziecka do obozu. Prosimy o dokładne jej wypełnienie (szczególnie informacji dotyczących zdrowia)\, pozwoli nam to na zapewnienie większego bezpieczeństwa podczas wypoczynku dzieci. \n\n \n 
URL:https://skrzydlatewakacje.pl/wydarzenie/zimowa-komancza-zimowisko-dla-dzieci/
LOCATION:Pod Kominkiem\, Komańcza 133\, Komańcza\, podkarpackie\, 38-543\, Polska
CATEGORIES:Zima 2025,zimowisko
ATTACH;FMTTYPE=image/jpeg:https://skrzydlatewakacje.pl/wp-content/uploads/2021/12/gf-2nDW-KX3G-4Huf_sroga-zima-w-bieszczadach-te-zdjecia-zaskakuja-gdzie-jest-wiosna-1920x1080-nocrop.jpg
ORGANIZER;CN="Fundacja SKRZYD%C5%81A DLA EDUKCJI":MAILTO:info@skrzydlatewakacje.pl
GEO:49.336256;22.071475
X-APPLE-STRUCTURED-LOCATION;VALUE=URI;X-ADDRESS=Pod Kominkiem Komańcza 133 Komańcza podkarpackie 38-543 Polska;X-APPLE-RADIUS=500;X-TITLE=Komańcza 133:geo:22.071475,49.336256
END:VEVENT
END:VCALENDAR