BEGIN:VCALENDAR
VERSION:2.0
PRODID:-//Skrzydlate Wakacje - ECPv6.15.18//NONSGML v1.0//EN
CALSCALE:GREGORIAN
METHOD:PUBLISH
X-WR-CALNAME:Skrzydlate Wakacje
X-ORIGINAL-URL:https://skrzydlatewakacje.pl
X-WR-CALDESC:Wydarzenia dla Skrzydlate Wakacje
REFRESH-INTERVAL;VALUE=DURATION:PT1H
X-Robots-Tag:noindex
X-PUBLISHED-TTL:PT1H
BEGIN:VTIMEZONE
TZID:Europe/Warsaw
BEGIN:DAYLIGHT
TZOFFSETFROM:+0100
TZOFFSETTO:+0200
TZNAME:CEST
DTSTART:20230326T010000
END:DAYLIGHT
BEGIN:STANDARD
TZOFFSETFROM:+0200
TZOFFSETTO:+0100
TZNAME:CET
DTSTART:20231029T010000
END:STANDARD
BEGIN:DAYLIGHT
TZOFFSETFROM:+0100
TZOFFSETTO:+0200
TZNAME:CEST
DTSTART:20240331T010000
END:DAYLIGHT
BEGIN:STANDARD
TZOFFSETFROM:+0200
TZOFFSETTO:+0100
TZNAME:CET
DTSTART:20241027T010000
END:STANDARD
BEGIN:DAYLIGHT
TZOFFSETFROM:+0100
TZOFFSETTO:+0200
TZNAME:CEST
DTSTART:20250330T010000
END:DAYLIGHT
BEGIN:STANDARD
TZOFFSETFROM:+0200
TZOFFSETTO:+0100
TZNAME:CET
DTSTART:20251026T010000
END:STANDARD
END:VTIMEZONE
BEGIN:VEVENT
DTSTART;TZID=Europe/Warsaw:20241015T010000
DTEND;TZID=Europe/Warsaw:20241022T160000
DTSTAMP:20260425T153458
CREATED:20240218T203732Z
LAST-MODIFIED:20240725T075210Z
UID:10000069-1728954000-1729612800@skrzydlatewakacje.pl
SUMMARY:Estudiar en Bilbao - kurs językowy w Hiszpanii
DESCRIPTION:Zapraszamy młodzież od 5 klasy szkoły podstawowej (w wieku 11-18 lat) na językową przygodę w Hiszpanii. \nBilbao – miasto w północnej Hiszpanii\, znane z futurystycznej architektury\, kultury i przemysłu. Położone nad rzeką Nervión\, stanowi centrum biznesowe oraz kulturalne Kraju Basków. Słynie ono z ikonicznych atrakcji\, takich jak Muzeum Guggenheima\, którego nowoczesna bryła architektoniczna przyciąga turystów z całego świata. Właśnie tutaj nasi uczniowie będą mieli okazję zamieszkać podczas nauki na młodzieżowym kursie językowym. To nie tylko codzienne\, praktyczne lekcje\, ale również egzotyczne wakacje w sercu Hiszpanii. Pracownicy naszego biura z Lublina zadbają zarówno o edukację\, jak i rozrywkę podopiecznych w czasie tej niezwykłej przygody! \n \nZapraszamy do wypełnienia formularza uczestnictwaLista zamkniętaLista zamknięta\nAtrakcjeKosztyZakwaterowanieProgramExtra Atrakcje \nATRAKCJE\nZagraniczne kursy językowe w Bilbao – biuro turystyczne Lublin\nRenomowana szkoła języka hiszpańskiego\, zaangażowana w nasze zagraniczne kursy językowe\, od 1999 roku prowadzi zajęcia dla obcokrajowców. \nInstituto Hemingway znajduje się w dzielnicy Abando\, 5 minut spacerem od Gran Via. Zabytkowy budynek posiada piękne balkony\, z których można podziwiać widok na centrum. Szkołę otacza urokliwa okolica\, pełna kawiarni i restauracji. \nKurs językowy w Hiszpanii – rodziny goszczące\nUczniowie podczas kursu językowego w Hiszpanii zamieszkają u miejscowych rodzin\, każda z nich przyjmie przynajmniej dwójkę uczestników. Bardzo dokładnie sprawdzamy wszystkich gospodarzy. Zdajemy sobie sprawę z odpowiedzialności i chcemy zapewnić uczniom właściwe warunki oraz miłą\, przyjazną atmosferę w hiszpańskim domu. Przed przyjazdem do Bilbao rodzice oraz podopieczni otrzymają opisy lokalnych rodzin wraz z adresami. Domy gospodarzy znajdują się w maksymalnej odległości od szkoły języka hiszpańskiego równej 25 minut pieszo. \nProgram zajęć kulturowych młodzieżowego kursu językowego\nKażdego dnia po obiedzie będziemy mieli okazję uczestniczyć w bogatym programie kulturowym. W planach odkrywanie uroków miasta Bilbao\, popołudnia na plaży Plentzia i Ereaga\, degustacja baskijskich dań: pintxos oraz paella\, wizyta na Plaza de Toros oraz w Muzeum walk byków Bilbao. Odwiedzimy również San Sebastian – miasto wciśnięte między morze i góry. Udamy się na pieszą wędrówkę na okoliczne wzgórze\, skąd rozpościera się cudowna panorama miasta. Przyjrzymy się także\, co skrywa Muzeum Guggenheimaa oraz wybierzemy na degustację wyśmienitych churrosów. W czasie młodzieżowego kursu językowego nasi uczniowie będą mieli okazję poznać nie tylko język\, ale także historię oraz uroki życia codziennego w Hiszpanii. Biuro turystyczne Skrzydlate Wakacje z Lublina zawsze dba o to\, aby zapewnić podopiecznym wspaniałe wspomnienia! \nKoszty\nKOSZTY\nCena: 520 EURO + 1800 PLN (koszt biletu lotniczego + ubezpieczenie + transfer na lotnisko) obejmuje: \n\nkurs językowy w Hiszpanii – 20 zajęć (1 lekcja 50 minut)\, certyfikat ukończenia\,\ntransport autokarem z i na lotnisko w Bilbao\,\nprzejazd na lotnisko wylotowe oraz powrotny do Lublina.\nzakwaterowanie u hiszpańskich rodzin w pokojach dwu- i trzyosobowych (7 nocy)\,\npełne wyżywienie: śniadania\, obiady i kolacje w domach gospodarzy\,\nzapis i materiały potrzebne podczas kursu\,\ntest sprawdzający poziom języka\,\nprogram kulturowy\,\nasysta polskiego rezydenta\, i opiekę skrzydlatej kadry\,\nubezpieczenie.\n\nCo trzeba zrobić\, aby z nami pojechać? Oto warunki.\nPłatność w PLN (1800 PLN) na konto. \n\nObowiązuje konieczność wpłaty na kwotę 1800 zł\, która jest warunkiem wpisania na listę młodzieżowego kursu językowego w Hiszpanii (koszt przeznaczony na zakup biletów lotniczych\, bez możliwości zwrotu) na konto Fundacji SKRZYDŁA DLA EDUKACJI (ul. Jutrzenki 24\, 20-538 Lublin) Bank Pekao SA 67 1240 5497 1111 0010 7774 6910 – z dopiskiem „Bilbao 2024”\n\nPłatności w euro (520 EURO) w gotówce. \nProsimy o wpłaty do sekretariatu szkoły Skrzydła. \n\n1 rata w wysokości 200 euro płatna do dnia 6 maja 2024\n2 rata w wysokości 100 euro płatna do dnia 3 czerwca 2024\nPełnej wpłaty należy dokonać do dnia 1 września 2024\n\n  \nZakwaterowanie \nZAKWATEROWANIE\nZakwaterowanie: u hiszpańskich rodzin goszczących\, w pokojach dwu- lub trzyosobowych\, z pełnym wyżywieniem x7 nocy w Bilbao. \nWyżywienie: śniadania\, obiady i kolacje z rodzinami oraz pack lunch na wynos. \nProgram\nNa miejsce zbiórki prosimy o przybycie minimum 20 minut wcześniej. \n\n\n\nDzień 1\nPrzylot do Bilbao i transport do rodzin\nZakwaterowanie u hiszpańskich gospodarzy\n\n\nDzień 2\nŚniadanie\nTest sprawdzający znajomość języka hiszpańskiego\nKurs języka hiszpańskiego + realizacja programu kulturalnego\nKolacja\n\n\nDzień 3\nŚniadanie\nKurs języka hiszpańskiego + realizacja programu kulturalnego\nObiad z rodzinami.\nKolacja.\n\n\nDzień 4\nŚniadanie.\nKurs języka hiszpańskiego + realizacja programu kulturalnego\nObiad z rodzinami.\nKolacja.\n\n\nDzień 5\nŚniadanie.\nKurs języka hiszpańskiego + realizacja programu kulturalnego\nObiad z rodzinami.\nKolacja.\n\n\nDzień 6\nŚniadanie.\nKurs języka hiszpańskiego + realizacja programu kulturalnego\nObiad z rodzinami.\nKolacja.\n\n\nDzień 7\nŚniadanie.\nKurs języka hiszpańskiego + realizacja programu kulturalnego\nObiad z rodzinami.\nKolacja.\n\n\nDzień 8\nZbiórka i wyjazd na lotnisko. Wylot do Polski.\n\n\n\nPodany wyżej program kursu językowego w Hiszpanii jest orientacyjny i może ulec zmianom. Przebieg zajęć kulturowych będzie zależał od aktywności uczniów. Wszystkie punkty programu zostaną zrealizowane. Zachęcamy do skorzystania z usług naszego biura znajdującego się w województwie lubelskim. \nExtra  \nEXTRA\nTransport: linie lotnicze. \nKadrę zagranicznych kursów językowych stanowią nauczyciele NSP SKRZYDŁA\, a także osoby z wieloletnim doświadczeniem pedagogicznym. \nUczestnicy muszą posiadać ważną (podbitą) legitymację szkolną i dowód osobisty/paszport. \nInformacje: aby uzyskać dodatkowe informacje\, prosimy kontaktować się z kierownikiem panią Mariką Jaśkowiak\, dzwoniąc pod numer telefonu 663317293.
URL:https://skrzydlatewakacje.pl/wydarzenie/estudiar-en-bilbao-kurs-jezykowy-w-hiszpanii/
LOCATION:Barcelona
CATEGORIES:Lato 2024
ATTACH;FMTTYPE=image/jpeg:https://skrzydlatewakacje.pl/wp-content/uploads/2024/02/estudiar-en-bilbao.jpeg
END:VEVENT
END:VCALENDAR