BEGIN:VCALENDAR
VERSION:2.0
PRODID:-//Skrzydlate Wakacje - ECPv6.15.18//NONSGML v1.0//EN
CALSCALE:GREGORIAN
METHOD:PUBLISH
X-WR-CALNAME:Skrzydlate Wakacje
X-ORIGINAL-URL:https://skrzydlatewakacje.pl
X-WR-CALDESC:Wydarzenia dla Skrzydlate Wakacje
REFRESH-INTERVAL;VALUE=DURATION:PT1H
X-Robots-Tag:noindex
X-PUBLISHED-TTL:PT1H
BEGIN:VTIMEZONE
TZID:Europe/Warsaw
BEGIN:DAYLIGHT
TZOFFSETFROM:+0100
TZOFFSETTO:+0200
TZNAME:CEST
DTSTART:20230326T010000
END:DAYLIGHT
BEGIN:STANDARD
TZOFFSETFROM:+0200
TZOFFSETTO:+0100
TZNAME:CET
DTSTART:20231029T010000
END:STANDARD
BEGIN:DAYLIGHT
TZOFFSETFROM:+0100
TZOFFSETTO:+0200
TZNAME:CEST
DTSTART:20240331T010000
END:DAYLIGHT
BEGIN:STANDARD
TZOFFSETFROM:+0200
TZOFFSETTO:+0100
TZNAME:CET
DTSTART:20241027T010000
END:STANDARD
BEGIN:DAYLIGHT
TZOFFSETFROM:+0100
TZOFFSETTO:+0200
TZNAME:CEST
DTSTART:20250330T010000
END:DAYLIGHT
BEGIN:STANDARD
TZOFFSETFROM:+0200
TZOFFSETTO:+0100
TZNAME:CET
DTSTART:20251026T010000
END:STANDARD
END:VTIMEZONE
BEGIN:VEVENT
DTSTART;TZID=Europe/Warsaw:20240627T150000
DTEND;TZID=Europe/Warsaw:20240708T180000
DTSTAMP:20260425T171823
CREATED:20240216T191512Z
LAST-MODIFIED:20240903T075756Z
UID:10000068-1719500400-1720461600@skrzydlatewakacje.pl
SUMMARY:Lato pod Wezuwiuszem - wyjazd dla młodzieży
DESCRIPTION:Włochy to kraj\, w którym nie sposób się nie zakochać. Niezwykłe krajobrazy\, wyśmienita kuchnia oraz wyczuwalna tu miłość do sztuki – wszystko to tworzy niezwykłą atmosferę. Warto pamiętać\, że właśnie w tym regionie powstały renesansowe dzieła mistrzów jak Leonardo da Vinci czy Michelangelo. Ponadto Italia jest miejscem przenikania się historii i tradycji z codziennością. Mieszkańcy tego kraju kochają swoją kulturę – mocne espresso\, makaron ugotowany al dente i pyszna pizza to ważne elementy życia każdego z nich. \nWłochy – idealny program wycieczki dla młodzieży z Lublina i okolic\nWszystkie regiony Italii – malownicze wzgórza Toskanii\, słoneczne wybrzeża Amalfi i inne zakątki – mają do zaoferowania wiele różnych atrakcji. Jeśli chcesz\, by Twoje nastoletnie dziecko przeżyło wyjątkową podróż na południe Europy\, już dziś zapisz je na naszą wycieczkę dla młodzieży do Włoch. Jesteśmy cenionym biurem turystycznym z Lublina. Zapraszamy wszystkich zainteresowanych naszą ofertą. \n\nZapraszamy do wypełnienia formularza uczestnictwaLista zamkniętaLista zamknięta\nAtrakcjeKosztyZakwaterowanieTransportExtra DokumentyAtrakcje \nAtrakcje\nJakie miejsca odwiedzimy w czasie wycieczki do Włoch?\nSan Marino – urocza enklawa na wzgórzach Apeninów\, będąca jednym z najstarszych i najmniejszych państw na świecie. Tutaj\, w otoczeniu malowniczych krajobrazów\, odkryjemy historię sięgającą ponad 1700 lat. Znane z charakterystycznych zabytków\, takich jak Bazylika Świętego Maryna czy imponujące warowne fortyfikacje\, miasto o tej samej nazwie – San Marino – zachwyca swoim urokiem i autentycznym klimatem. Czy to w wąskich uliczkach starego miasta\, czy na szczytach górskich szlaków\, każdy kamień opowiada tutaj swoją historię. \nWyspa Capri – rajskie miejsce na Morzu Śródziemnym. W magiczną podróż na malowniczą wyspę w Zatoce Neapolitańskiej wybierzemy się łodzią. Capri to miejsce słynące z przepięknych krajobrazów\, bogatej historii i luksusowego stylu życia. Tu moda\, kuchnia\, przyroda oraz morskie widoki przyciągają turystów z całego świata. \nSorrento – miasteczko gdzie spotykają się zabytkowa historia\, zapierające dech w piersiach widoki i niezwykła kultura. Spacerując po urokliwych uliczkach Sorrento\, będziemy podziwiać kolorowe kamienne domy\, urokliwe kawiarnie i sklepy rzemieślnicze. \nNeapol – miasto u stóp Wezuwiusza\, będące kulturalną stolicą południowych Włoch. Miejscowość zachwyca swoją energią\, tradycyjnymi targami oraz barwną atmosferą ulicznych festiwali. To tutaj będziemy kosztować prawdziwej włoskiej pizzy\, która narodziła się ponad 100 lat temu właśnie w Neapolu. \nPompeje – ruszymy w podróż w czasie do starożytnych Pompejów – miasta zamrożonego w czasie przez wybuch Wezuwiusza w 79 roku n.e. To fascynujące miejsce przyciąga młodzież z całego świata\, oferując niezwykłe wrażenia i naukę poprzez historię. \nPark rozrywki Gardaland – to największy park rozrywki we Włoszech\, a jednocześnie jeden z najczęściej odwiedzanych parków atrakcji w Europie. Rozciąga się na obszarze 60 ha\, usytuowany jest w pobliżu największego włoskiego jeziora Garda. Atrakcje parku podzielone na trzy grupy tematyczne: Fantasy\, Adventure i Adrenaline. \nWycieczka dla młodzieży do Włoch – oferta z Lublina\nW ramach działalności naszej fundacji z Lublina przygotowaliśmy ofertę wycieczki\, która zachwyci każdego młodego człowieka. Program przewiduje przekazanie wiedzy o historii Włoch w ciekawy sposób\, ale też sporą dawkę rozrywki – nie ma tu mowy o nudzie! Jako specjaliści w swojej dziedzinie zapewniamy\, że pociecha wróci do domu z pięknymi wspomnieniami i miłością do wspaniałego kraju\, jakim są Włochy. \nJeśli chcesz dowiedzieć się więcej\, zapraszamy do naszej siedziby lub do kontaktu telefonicznego. \nGotowi na piękną przygodę? Dołączcie do nas już dziś! \nKoszty \nKoszty\n3700 zł + 130 euro/płatne na spotkaniu przed wyjazdem. \nCena obejmuje: \n\n7x nocleg z Villaggio Residence Nettuno od obiadokolacji w dniu przyjazdu do śniadania w dniu wyjazdu\,\nnocleg HB okolice Rimini\,\nnocleg HB w okolicach jeziora Garda\,\nrejs statkiem na wyspę Capri\,\nbilety wstępu do muzeum miasta Pompeje\,\nbilety wstępu do parku rozrywki Gardaland\,\nprzejazd komfortowym autokarem\,\nubezpieczenie\,\nopłaty klimatyczne\,\nopiekę wykwalifikowanej kadry\,\nopiekę ratownika podczas pobytu nad morzem.\n\nCo należy zrobić\, aby pojechać z nami na obóz? \n\nWpłacić bezzwrotną zaliczkę\, w wysokości 500 zł\, która jest warunkiem wpisania na listę. Liczba miejsc ograniczona.\nRata 1 – 2000 zł płatna do dnia 1 kwietnia 2024\nPełnej wpłaty należy dokonać do dnia 31 maja 2024 roku na konto Fundacji SKRZYDŁA DLA EDUKACJI (ul. Jutrzenki 24\, 20-538 Lublin)\nBank Pekao SA 67 1240 5497 1111 0010 7774 6910 – z dopiskiem „Włochy 2024”\n\nZakwaterowanie \nZakwaterowanie\nZakwaterowanie: Villaggio Residence Nettuno w zatoce Marina del Cantone. Będziemy zakwaterowani w bungalowach 6-osobowych – dwie sypialnie\, w pełni wyposażona kuchnia\, łazienka z prysznicem oraz taras zewnętrzny. \nWyżywienie: 3x dziennie\, śniadanie\, lunch i kolacja w formie bufetu\, woda do posiłków. Pierwszy obiad w dniu przyjazdu\, ostatni lunch w ostatnim dniu pobytu.\nTransport\nTransport\nNa miejsce zbiórki prosimy o przybycie minimum 20 minut wcześniej. \nWszyscy uczestnicy muszą posiadać ważny (min. 3 miesiące od daty powrotu) dokument tożsamości (paszport lub dowód osobisty) \n\n\n\n27.06.\n1 dzień\nWyjazd z Lublina godz. 15:00. Przejazd przez Polskę\, Czechy i Austrię.\n\n\n28.06\n2 dzień\nPrzejazd do Włoch. Zakwaterowanie w hotelu\, kolacja i nocleg w okolicach San Marino.\n\n\n29.06\n3 dzień\nPo śniadaniu zwiedzanie San Marino\, kontynuacja podróży w kierunku wybrzeża amalfitańskiego. Zakwaterowanie na campingu Villaggio Residence Nettuno\, obiadokolacja\, nocleg.\n\n\n30.06\n4 – 9 dzień\n\n\ncałodzienny rejs na wyspę Capri\,\nwycieczka do Sorrento\,\npiesza wycieczka na wzgórze Pineta di San Costanzo\,\nplażowanie\, kąpiele w morzu pod opieką ratownika\,\nzajęcia sportowo-animacyjne\, rozgrywki i zajęcia integracyjne\,\nsiatkówka plażowa\, piłka nożna\, konkursy\, gry.\n\n\n\n\n06.07\n10 dzień\nPo śniadaniu wykwaterowanie\, przejazd przez Włochy w kierunku jeziora Garda. Zakwaterowanie w hotelu\, obiadokolacja. Nocleg.\n\n\n07.07\n11 dzień\nPo śniadaniu całodzienna zabawa w parku rozrywki Gardaland. Nocny przejazd w kierunku Polski.\n\n\n08.07\n12 dzień\nPrzyjazd do Lublina w godzinach popołudniowych.\n\n\n\n  \nWynajmowany przez nas autokar należy do firmy ArjaBus\, z którą współpracujemy od 2013 roku. Firma posiada licencję na przewóz osób oraz potrzebne dokumenty zezwalające na przewóz osób na terenie Polski i Europy. \nExtra  \nExtra\nKadrę obozu stanowią nauczyciele NSP SKRZYDŁA\, a także osoby z wieloletnim doświadczeniem pedagogicznym i obozowym w tym instruktorzy. \nAby uzyskać dodatkowe informacje\, prosimy kontaktować się z kierownikiem – panią Mariką Jaśkowiak – dzwoniąc pod numer 663317293. \nDokumenty\nDokumenty\nPobierz i wypełnij: kartę kwalifikacyjną uczestnika obozu oraz złóż ją przy zapisie. Karta jest warunkiem dopuszczenia uczestnika do obozu. Prosimy o dokładne jej wypełnienie (szczególnie informacji dotyczących zdrowia)\, pozwoli nam to na zapewnienie większego bezpieczeństwa podczas wypoczynku.
URL:https://skrzydlatewakacje.pl/wydarzenie/lato-pod-wezuwiuszem-wyjazd-dla-mlodziezy/
LOCATION:Villaggio Residence Nettuno\, Via A. Vespucci\, 39\, Massa Lubrense\, 80061\, Italy
CATEGORIES:Lato 2024,obóz
ATTACH;FMTTYPE=image/jpeg:https://skrzydlatewakacje.pl/wp-content/uploads/2024/02/lato-pod-wezuwiuszem.jpg
ORGANIZER;CN="Fundacja SKRZYD%C5%81A DLA EDUKCJI":MAILTO:info@skrzydlatewakacje.pl
END:VEVENT
BEGIN:VEVENT
DTSTART;TZID=Europe/Warsaw:20240705T100000
DTEND;TZID=Europe/Warsaw:20240716T150000
DTSTAMP:20260425T171823
CREATED:20240124T212516Z
LAST-MODIFIED:20240527T071348Z
UID:10000065-1720173600-1721142000@skrzydlatewakacje.pl
SUMMARY:Poszukiwacze zaginionych skarpetek 2024 - Komańcza
DESCRIPTION:Poszukiwacze zaginionych skarpetek 2024 – obóz w Komańczy\n– dla dzieci w wieku 6 – 12 lat.\n„Kto powiedział\, że skarpetki mają być do pary…\nBo skarpetki się rozparowują. One się nie gubią\, ale rozchodzą. Jedna sobie gdzieś wędruje\, a druga też\, ale gdzie indziej. Skarpetki znikają po wrzuceniu do pralki. To fakt\, że znikają\, skoro wsadzamy je parami\, a wyjmujemy pojedyncze. Tak się dzieje w domu Małej Be. Otóż zaginione skarpetki ruszają w świat\, robią zawrotne kariery i mają świetne przygody: zostają gwiazdami filmowymi\, detektywami\, mysimi mamami albo po prostu uszczelniają wronie gniazdo.” \n– Fragment książki “Niesamowite przygody 10 skarpetek” \nZapraszamy Was do udziału w skarpetkowej przygodzie. Wspólnie będziemy poznawać przygody skarpetek\, które ukryły się w bieszczadzkich lasach i na bieszczadzkich łąkach. Każda drużyna codziennie będzie miała do wykonania różnorodne zadania\, prowadzące do odnalezienia zaginionych skarpetek. Potrzebny będzie spryt\, zwinność\, współpraca i zdolność twórczego myślenia. \n \nZapraszamy do wypełnienia formularza uczestnictwaLista zamkniętaLista zamknięta\nAtrakcjeKosztyZakwaterowanieTransportExtra DokumentyAtrakcje \n\nKolejka Bieszczadzka;\nWyjście w Bieszczady Wysokie z przewodnikiem;\nWarsztaty artystyczne;\nWarsztaty przyrodnicze – tropiąc motyle;\nZajęcia z rękodzieła;\nRzeczny wyścig tratw;\nZajęcia DIY – tworzenie skarpetkowych bohaterów;\nŚcieżka dydaktyczna wokół Komańczy;\nBieg patrolowy i nocne podchody;\nOlimpiada sportowa;\nGry terenowe z nauką górskiej nawigacji;\nDyskoteka i ognisko;\nNiezapomniane pogodne wieczory oraz poczta chochlikowa i cichym przyjacielem;\n„Mam talent” – konkurs talentów.\n\nKoszty\nCena: 2250 zł obejmuje: ubezpieczenie\, przejazd\, zakwaterowanie\, wyżywienie\, opiekę wykwalifikowanej i doświadczonej kadry pedagogicznej oraz instruktorów survivalu\, atrakcje zawarte w programie obozu; \nAby pojechać z nami na obóz należy: \n\nWpłacić bezzwrotną zaliczkę w wysokości 500 zł która jest warunkiem wpisania na listę.\n1 rata w wysokości 1500 zł płatna do dnia 1 kwietnia 2024\nPełnej wpłaty należy dokonać do dnia 31 maja 2024 roku na konto Fundacji SKRZYDŁA DLA EDUKACJI (ul. Jutrzenki 24\, 20-538 Lublin)\nBank Pekao SA 67 1240 5497 1111 0010 7774 6910 – z dopiskiem „Komańcza 2024”\n\nZakwaterowanie\nZakwaterowanie: Hotel Pod Kominkiem; Komańcza 133; 38-543 Komańcza. W pokojach 2-4 osobowych wyposażonych w pełny węzeł sanitarny. \nWyżywienie: Pełne 3 posiłki dziennie (śniadanie\, obiad\, kolacja).Transport Wynajmowany przez nas autokar należy do firmy ArjaBus\, z którą współpracujemy od 2013 roku. Firma posiada licencję na przewóz osób\, oraz  potrzebne dokumenty zezwalające na przewóz osób na terenie Polski i Europy. Extra  \nKadrę obozu stanowią osoby z wieloletnim doświadczeniem pedagogicznym i obozowym. \nDokumenty\nPobierz i wypełnij: kartę kwalifikacyjną uczestnika obozu oraz złóż ją przy zapisie. Karta jest warunkiem dopuszczenia dziecka do obozu. Prosimy o dokładne jej wypełnienie (szczególnie informacji dotyczących zdrowia)\, pozwoli nam to na zapewnienie większego bezpieczeństwa podczas wypoczynku dzieci. \n\n \n 
URL:https://skrzydlatewakacje.pl/wydarzenie/poszukiwacze-zaginionych-skarpetek-2024-komancza/
LOCATION:Pod Kominkiem\, Komańcza 133\, Komańcza\, podkarpackie\, 38-543\, Polska
CATEGORIES:Lato 2024,obóz
ATTACH;FMTTYPE=image/webp:https://skrzydlatewakacje.pl/wp-content/uploads/2023/02/IMG_20220708_104412-scaled.webp
ORGANIZER;CN="Fundacja SKRZYD%C5%81A DLA EDUKCJI":MAILTO:info@skrzydlatewakacje.pl
GEO:49.336256;22.071475
X-APPLE-STRUCTURED-LOCATION;VALUE=URI;X-ADDRESS=Pod Kominkiem Komańcza 133 Komańcza podkarpackie 38-543 Polska;X-APPLE-RADIUS=500;X-TITLE=Komańcza 133:geo:22.071475,49.336256
END:VEVENT
END:VCALENDAR