BEGIN:VCALENDAR
VERSION:2.0
PRODID:-//Skrzydlate Wakacje - ECPv6.15.18//NONSGML v1.0//EN
CALSCALE:GREGORIAN
METHOD:PUBLISH
X-WR-CALNAME:Skrzydlate Wakacje
X-ORIGINAL-URL:https://skrzydlatewakacje.pl
X-WR-CALDESC:Wydarzenia dla Skrzydlate Wakacje
REFRESH-INTERVAL;VALUE=DURATION:PT1H
X-Robots-Tag:noindex
X-PUBLISHED-TTL:PT1H
BEGIN:VTIMEZONE
TZID:Europe/Warsaw
BEGIN:DAYLIGHT
TZOFFSETFROM:+0100
TZOFFSETTO:+0200
TZNAME:CEST
DTSTART:20130331T010000
END:DAYLIGHT
BEGIN:STANDARD
TZOFFSETFROM:+0200
TZOFFSETTO:+0100
TZNAME:CET
DTSTART:20131027T010000
END:STANDARD
BEGIN:DAYLIGHT
TZOFFSETFROM:+0100
TZOFFSETTO:+0200
TZNAME:CEST
DTSTART:20140330T010000
END:DAYLIGHT
BEGIN:STANDARD
TZOFFSETFROM:+0200
TZOFFSETTO:+0100
TZNAME:CET
DTSTART:20141026T010000
END:STANDARD
BEGIN:DAYLIGHT
TZOFFSETFROM:+0100
TZOFFSETTO:+0200
TZNAME:CEST
DTSTART:20150329T010000
END:DAYLIGHT
BEGIN:STANDARD
TZOFFSETFROM:+0200
TZOFFSETTO:+0100
TZNAME:CET
DTSTART:20151025T010000
END:STANDARD
BEGIN:DAYLIGHT
TZOFFSETFROM:+0100
TZOFFSETTO:+0200
TZNAME:CEST
DTSTART:20160327T010000
END:DAYLIGHT
BEGIN:STANDARD
TZOFFSETFROM:+0200
TZOFFSETTO:+0100
TZNAME:CET
DTSTART:20161030T010000
END:STANDARD
BEGIN:DAYLIGHT
TZOFFSETFROM:+0100
TZOFFSETTO:+0200
TZNAME:CEST
DTSTART:20170326T010000
END:DAYLIGHT
BEGIN:STANDARD
TZOFFSETFROM:+0200
TZOFFSETTO:+0100
TZNAME:CET
DTSTART:20171029T010000
END:STANDARD
END:VTIMEZONE
BEGIN:VEVENT
DTSTART;TZID=Europe/Warsaw:20160711T030000
DTEND;TZID=Europe/Warsaw:20160721T235900
DTSTAMP:20260425T151936
CREATED:20151117T175455Z
LAST-MODIFIED:20160506T113611Z
UID:10000007-1468206000-1469145540@skrzydlatewakacje.pl
SUMMARY:Półwysep Gargano - obóz dla młodzieży
DESCRIPTION:Zapraszamy młodzież w wieku 11-16 lat. Ciepłe Morze Adriatyckie\, malownicze wybrzeże\, tropikalna roślinność\, piękne widoki\, życzliwi ludzie…to tylko niektóre z atrakcji tego wyjazdu\, a będzie ich na pewno o wiele więcej!\nWycieczka do Neapolu i Pompei\, San Marino i Rimini\, Vieste oraz Peschici.\nJeśli chcecie dobrze odpocząć oraz zwiedzić jeden z najbardziej malowniczych i różnorodnych zakątków Europy nie może Was zabraknąć na tym obozie!\n[tagline_box backgroundcolor=”” shadow=”yes” shadowopacity=”0.3″ border=”1px” bordercolor=”” highlightposition=”top” content_alignment=”left” link=”http://skrzydlatewakacje.pl/formularz-zgloszenia-wakacje” linktarget=”_self” modal=”” button_size=”” button_shape=”” button_type=”” buttoncolor=”” button=”Rezerwuj miejsce” title=”Rezerwacja miejsca!  Zapraszamy do wypełnienia formularza uczestnictwa” description=”” margin_top=”” margin_bottom=”” animation_type=”bounce” animation_direction=”left” animation_speed=”0.2″ class=”” id=””][/tagline_box]\nAtrakcjeKosztyZakwaterowanieTransportExtra DokumentyAtrakcje \nBogaty program animacyjny przygotowany przez profesjonalnych włoskich animatorów m.in.: gry i zabawy przy basenie i na plaży\, turnieje\, zajęcia sportowe\, przedstawienia i pokazy; \n\ncodzienne korzystanie z promieni gorącego słońca\nkąpiele w Morzu Adriatyckim oraz w basenie\nkonkursy i quizy z nagrodami\n\nPlanowane wycieczki: \nPESCHICI+VIESTE – czeka na Was wizyta w dwóch najpiękniejszych miasteczkach na Półwyspie Gargano. Pescichi to małe miasteczko malowniczo położne na wapiennej skale z charakterystycznymi białymi domkami. Następnie odwiedzicie Vieste nazywane również „białym miasteczkiem”\, ponieważ tutaj średniowieczna zabudowa wyrasta z białych wapiennych skał. Vieste to obecnie także największy kurort na półwyspie Gargano. Znajdziecie tutaj piękną architekturę oraz wąskie uliczki z malowniczymi zaułkami. Zobaczycie także górujący nad miastem zamek Il Castello\, który niegdyś był głównym bastionem półwyspu. Możliwość zrobienia zakupów w tradycyjnych włoskich sklepikach. \nNEAPOL – nieformalna stolica południa Włoch\, ukochane miasto Sophi Loren. Przekonacie się o pięknie Neapolu z górującym nad nim potężnym Wezuwiuszem na własne oczy. Tutaj poznacie gwarne życie stolicy południowych Włoch oraz zobaczycie najciekawsze miejsca: Palazzo Reale\, Castel Nuovo\, teatr San Carlo oraz historyczną część miasta z jej wąskimi uliczkami. \nPOMPEJE – uważane są za jedno z najbardziej zachwycających miast Imperium Rzymskiego\, gdzie wznoszone budowle charakteryzowały się zdumiewającym pięknem\, a w swoim najlepszym okresie metropolia mogła konkurować świetnością z największymi miastami Imperium. Jednak w 79 roku n.e miasto zetknęło się z prawdziwą katastrofą\, za sprawą erupcji Wezuwiusza zostało zasypane przez pyły wulkaniczne\, ale dzięki temu wiele zabytków przetrwało do naszych czasów.  Zwiedzicie najbardziej charakterystyczne miejsca: Świątynie Apollona\, Forum\, Termy Rynkowe\, Teatr Wielki. \nSAN MARINO – jedno z najmniejszych państw świata\, a za razem najstarsza republika w Europie zachwyci Was swoim urokiem. Zwiedzicie najważniejsze i najpiękniejsze zabytki tej enklawy: twierdzę La Rocca o Guaita wznoszącą się na wzgórzu\, katedrę św. Marino oraz Palazzo Pubblico\, czyli ratusz miejski. \nRIMINI – stare rzymskie miasto przeszło wiele zmian i dziś jest największym włoskim kąpieliskiem na wybrzeżu Adriatyku. Tutaj  czeka na Was spacer romantycznymi uliczkami Starego Miasta Rimini\, a przy moście Tyberiusza i Łuku Triumfalnym Konstantyna będziecie mogli zrobić sobie zdjęcia oraz zjeść przepyszne włoskie lody. \nKoszty\nCena: 1650 zł obejmuje: ubezpieczenie AXA – „Kontynenty”\, przejazd autokarem o podwyższonym standardzie\, zakwaterowanie\, wyżywienie\, opiekę wykwalifikowanej i doświadczonej kadry pedagogicznej oraz ratownika wodnego\, pilota na trasie\, atrakcje zawarte w programie obozu; \nCena nie obejmuje: posiłków tranzytowych\, dodatkowych napojów do obiadu i kolacji. \nAby pojechać z nami na obóz należy: \n\nWpłacić bezzwrotną zaliczkę\, w wysokości 100 zł która jest warunkiem wpisania na listę.\nPełnej wpłaty należy dokonać do dnia 25 maja 2016 roku na konto Fundacji SKRZYDŁA DLA EDUKACJI (ul. Szmaragdowa 1\, 20-570 Lublin)\nGetin Noble Bank 55 1560 0013 2321 6991 5000 0005 – z dopiskiem „Półwysep Gargano – obóz dla młodzieży”\n\nZakwaterowanie\nZakwaterowanie: Camping 5 Stelle Villagio – obiekt usytuowany na lagunie Isole di Varano w obrębie Parku Narodowego Gargano\, w odległości zaledwie 250 m od plaży. Cały kompleks obejmuje obszar około 10 hektarów\, z czego 4 ha to lasy piniowe i gaje oliwne. Mieszkamy w murowanych bungalowach 5-6 osobowych\, każdy domek składa się z dwóch pokoi\, aneksu kuchennego z lodówką\, łazienki oraz tarasu. Na terenie ośrodka znajdują się: 2 baseny z przestronnym tarasem\, boiska do siatkówki plażowej\, koszykówki\, piłki nożnej\, kort tenisowy\, mini – market\, pizzeria. \nPrzez cały dzień na terenie campingu odbywają się animacje w języku włoskim. \nWyżywienie: 3 posiłki dziennie – śniadanie kontynentalne\, obiad i kolacja serwowane składające się z pierwszego i drugiego dania oraz deseru lub owoców. Woda do posiłków w cenie. Pozostałe napoje do posiłków dodatkowo płatne.\nPierwszy posiłek: kolacja w dniu przyjazdu na camping\nOstatni posiłek: śniadanie+suchy prowiant ostatniego dnia pobytu na campinguTransport\nNa miejsce zbiórki prosimy o przybycie minimum 20 minut wcześniej. \nWszyscy uczestnicy muszą posiadać ważną(podbitą) legitymację szkolną i dowód osobisty/paszport. \n\n\n\n1 dzień\nwyjazd 11.07.2016\, przejazd przez Polskę\, Czechy\, nocny przejazd przez Austrię\n\n\n2 dzień\nprzyjazd na camping ok. godz. 15-tej\, aklimatyzacja\, zakwaterowanie\, kolacja\n\n\n3-8/9 dzień\nwypoczynek we Włoszech\, realizacja programu i wycieczek zawartych w programie\n\n\n9/10 dzień\nśniadanie + suchy prowiant\, wykwaterowanie\, przejazd do San Marino – zwiedzanie miasta\, przejazd do Rimini- zwiedzanie miasta oraz odpoczynek na plaży\, wyjazd w godzinach późnowieczornych\, nocny przejazd przez Włochy\, Austrię\n\n\n10/11 dzień\n przejazd przez Czechy\, przyjazd do Polski 21.07.2016\n\n\n\nExtra  \nKadrę obozu stanowią nauczyciele NSP SKRZYDŁA a także osoby z wieloletnim doświadczeniem pedagogicznym i obozowym w tym instruktorzy. \nInformacje: Aby uzyskać dodatkowe informacje prosimy kontaktować się z kierownikiem panią Mariką Jaśkowiak dzwoniąc na telefon 663317293Dokumenty\nPobierz-wypełnij-dostarcz: kartę kwalifikacyjną uczestnika. Karta jest warunkiem dopuszczenia do uczestnictwa w obozie. \nPobierz-wypełnij-dostarcz: umowę uczestnictwa w obozie\, przynieś na spotkanie lub odeślij na adres info(at)skrzydlatewakacje.pl\n[separator style_type=”shadow” top_margin=”40″ bottom_margin=”40″ sep_color=”” border_size=”” icon=”” icon_circle=”” icon_circle_color=”” width=”” alignment=”center” class=”” id=””]
URL:https://skrzydlatewakacje.pl/wydarzenie/polwysep-gargano/
LOCATION:Camping Villaggio 5 Stelle\, SP41 Km 34\,500 - Isola di Varano 71010\, Cagnano Varano\, Puglia\, Włochy
CATEGORIES:obóz
ATTACH;FMTTYPE=image/jpeg:https://skrzydlatewakacje.pl/wp-content/uploads/2015/11/polwysep-gargano.jpg
ORGANIZER;CN="Fundacja SKRZYD%C5%81A DLA EDUKCJI":MAILTO:info@skrzydlatewakacje.pl
GEO:41.8296392;15.7727772
X-APPLE-STRUCTURED-LOCATION;VALUE=URI;X-ADDRESS=Camping Villaggio 5 Stelle SP41 Km 34500 - Isola di Varano 71010 Cagnano Varano Puglia Włochy;X-APPLE-RADIUS=500;X-TITLE=SP41 Km 34\,500 - Isola di Varano 71010:geo:15.7727772,41.8296392
END:VEVENT
BEGIN:VEVENT
DTSTART;TZID=Europe/Warsaw:20160625T100000
DTEND;TZID=Europe/Warsaw:20160706T170000
DTSTAMP:20260425T151936
CREATED:20151216T181820Z
LAST-MODIFIED:20160816T165637Z
UID:10000031-1466848800-1467824400@skrzydlatewakacje.pl
SUMMARY:Rzędkowice - w indiańskiej krainie
DESCRIPTION:Zapraszamy dzieci w wieku 6-13 lat. Obóz oparty na fabule „w indiańskiej krainie” przeniesie młodzież w świat indiańskich plemion\, kultury\, zwyczajów oraz tradycji rdzennych mieszkańców Ameryki. Indianie żyjący w zgodzie z naturą mogą być dobrym przykładem do naśladowania.\n\n[tagline_box backgroundcolor=”” shadow=”yes” shadowopacity=”0.3″ border=”1px” bordercolor=”” highlightposition=”top” content_alignment=”left” link=” http://skrzydlatewakacje.pl/zgloszenie-wypoczynku” linktarget=”_self” modal=”” button_size=”” button_shape=”” button_type=”” buttoncolor=”” button=”Rezerwuj miejsce” title=”Rezerwacja miejsca!  Zapraszamy do wypełnienia formularza uczestnictwa” description=”” margin_top=”” margin_bottom=”” animation_type=”bounce” animation_direction=”left” animation_speed=”0.2″ class=”” id=””][/tagline_box]\nAtrakcjeKosztyZakwaterowanieTransportExtra DokumentyAtrakcje \n\nnocny bieg sprawnościowy;\nwspinaczka skałkowa;\nindiańskie zabawy linowe;\nposzukiwanie skamieniałości;\nzdobywanie indiańskich sprawności;\nbudowa łuków i strzał oraz nauka strzelania\, polowanie na bizona;\nżycie leśnych zwierząt – nauka tropienia;\nkurs dobrego samarytanina;\ndobre kino i turniej gier stolikowych; Koszty\nCena: 1650 zł obejmuje: ubezpieczenie\, przejazd\, zakwaterowanie\, wyżywienie\, opiekę wykwalifikowanej i doświadczonej kadry pedagogicznej oraz instruktorów wspinaczki\, instruktorów PZA\, atrakcje zawarte w programie obozu; \nAby pojechać z nami na obóz należy: \n\nWpłacić bezzwrotną zaliczkę w wysokości 100 zł która jest warunkiem wpisania na listę.\nPełnej wpłaty należy dokonać do dnia 31 maja 2016 roku na konto Fundacji SKRZYDŁA DLA EDUKACJI (ul. Szmaragdowa 1\, 20-570 Lublin)\nGetin Noble Bank 55 1560 0013 2321 6991 5000 0005 – z dopiskiem „Rzędkowice – w indiańskiej krainie”\n\nZakwaterowanie\nZakwaterowanie: Farma Szkoleniowo-Rekreacyjna Ametyst 42-421 Rzędkowice ul. Jurajska 119 W pokojach 2-5 osobowych wyposażonych w pełny węzeł sanitarny. \nWyżywienie: Pełne 3 posiłki dziennie (śniadanie\, obiad\, kolacja).Transport Wynajmowany przez nas autokar należy do firmy ArjaBus\, z którą współpracujemy od 5 lat. Firma posiada licencję na przewóz osób\, oraz  dokumenty zezwalające na przewóz osób na terenie Polski i Europy. Extra  \nKadrę obozu stanowią osoby z wieloletnim doświadczeniem pedagogicznym i obozowym. \nInformacje: Aby uzyskać dodatkowe informacje prosimy kontaktować się z kierownikiem obozu dzwoniąc na telefon 501068720Dokumenty\nPobierz i wypełnij: kartę kwalifikacyjną uczestnika obozu oraz złóż ją przy zapisie. Karta jest warunkiem dopuszczenia dziecka do zimowiska. Prosimy o dokładne jej wypełnienie(szczególnie informacji dotyczących zdrowia dziecka)\, pozwoli nam to na zapewnienie większego bezpieczeństwa podczas wypoczynku dzieci. \nPobierz i podpisz: umowę uczestnictwa w obozie\, przynieś na spotkanie lub odeślij na adres info(at)skrzydlatewakacje.pl\n[separator style_type=”shadow” top_margin=”40″ bottom_margin=”40″ sep_color=”” border_size=”” icon=”” icon_circle=”” icon_circle_color=”” width=”” alignment=”center” class=”” id=””]
URL:https://skrzydlatewakacje.pl/wydarzenie/rzedkowice-w-krainie-indian/
LOCATION:Farma Szkoleniowo-Rekreacyjna Ametyst\, Jurajska 119\, Rzędkowice\, śląskie\, 42-421\, Polska
CATEGORIES:obóz
ATTACH;FMTTYPE=image/jpeg:https://skrzydlatewakacje.pl/wp-content/uploads/2013/07/rzedkowice_9_7_37.jpg
ORGANIZER;CN="Fundacja SKRZYD%C5%81A DLA EDUKCJI":MAILTO:info@skrzydlatewakacje.pl
GEO:50.579237;19.488896
X-APPLE-STRUCTURED-LOCATION;VALUE=URI;X-ADDRESS=Farma Szkoleniowo-Rekreacyjna Ametyst Jurajska 119 Rzędkowice śląskie 42-421 Polska;X-APPLE-RADIUS=500;X-TITLE=Jurajska 119:geo:19.488896,50.579237
END:VEVENT
BEGIN:VEVENT
DTSTART;TZID=Europe/Warsaw:20160213T120000
DTEND;TZID=Europe/Warsaw:20160219T170000
DTSTAMP:20260425T151936
CREATED:20151102T201457Z
LAST-MODIFIED:20160127T213425Z
UID:10000008-1455364800-1455901200@skrzydlatewakacje.pl
SUMMARY:Komańcza - Bajkowe Zimowisko
DESCRIPTION:Zapraszamy dzieci w wieku 6-13 lat. Ferie zimowe to czas odpoczynku i zabawy. Jak co roku pragniemy zaprosić dzieci do Komańczy. W pięknym otoczeniu bieszczadzkiej natury będziemy aktywnie i twórczo spędzać czas.\nZapraszamy również rodziców pragnących spokojnie spędzić czas\, aby dołączyli do uczestników zimowiska.\n[tagline_box backgroundcolor=”” shadow=”yes” shadowopacity=”0.3″ border=”1px” bordercolor=”” highlightposition=”top” content_alignment=”left” link=”http://www.skrzydlatewakacje.pl/formularz-zgloszenia-uczestnika” linktarget=”_self” modal=”” button_size=”” button_shape=”” button_type=”” buttoncolor=”” button=”Lista rezerwowa” title=”Uwaga !!! Wszystkie miejsca zarezerwowane. Chętnych prosimy o wpisywanie danych na listę rezerwową.” description=”” margin_top=”” margin_bottom=”” animation_type=”bounce” animation_direction=”left” animation_speed=”0.2″ class=”” id=””][/tagline_box]\nAtrakcjeKosztyZakwaterowanieTransportExtra DokumentyAtrakcje \n\nZasady ochrony przed zimnem BUDOWA IGLOO;\nKulig z ogniskiem i pieczeniem kiełbasek;\nZabawy na śniegu „zawody w zjeździe na workach ze słomą„;\nZasady bezpieczeństwa w „zimowych górach”;\nNauka i wyjście w teren na rakietach śnieżnych;\nZajęcia z robotyki na podstawie zaawansowanych zestawów klocków LEGO Education i LEGO Education WeDo\nDobre Kino i turniej gier stolikowych;\nNa stoku w Karlikowie – nauka jazdy na nartach dla początkujących i „szlifowanie techniki” dla zaawansowanych narciarzy – propozycja dla chętnych;Koszty\nCena: 800 zł obejmuje: ubezpieczenie\, przejazd\, zakwaterowanie\, wyżywienie\, opiekę wykwalifikowanej i doświadczonej kadry pedagogicznej oraz przewodnika górskiego\, atrakcje zawarte w programie obozu; \nCena nie obejmuje zajęć na stoku w Karlikowie. Przewidywane koszty szkółki narciarskiej to około 300-350zł- w zależności od ilości zgłoszonych osób. \nAby pojechać z nami na zimowisko należy: \n\nWpłacić bezzwrotną zaliczkę w wysokości 100 zł która jest warunkiem wpisania na listę.\nPełnej wpłaty należy dokonać do dnia 1 lutego 2016 roku na konto Fundacji SKRZYDŁA DLA EDUKACJI (ul. Szmaragdowa 1\, 20-570 Lublin)\nGetin Noble Bank 55 1560 0013 2321 6991 5000 0005 – z dopiskiem „Bajkowe Zimowisko – Komańcza”\n\nZakwaterowanie\nZakwaterowanie: Hotel Pod Kominkiem; Komańcza 133; 38-543 Komańcza. W pokojach 2-5 osobowych wyposażonych w pełny węzeł sanitarny. \nWyżywienie: Pełne 3 posiłki dziennie (śniadanie\, obiad\, kolacja).Transport Wynajmowany przez nas autokar należy do firmy ArjaBus\, z którą współpracujemy od 5 lat. Firma posiada licencję na przewóz osób\, oraz  dokumenty zezwalające na przewóz osób na terenie Polski i Europy. Extra  \nPobyt rodziców: 70 zł doba z pełnym wyżywieniem\, płatność za dodatkowe atrakcje na miejscu (kulig\, rakiety śnieżne) sauna i dobre kino w cenie. \nKadrę zimowiska stanowią osoby z wieloletnim doświadczeniem pedagogicznym i obozowym. Zajęcia narciarskie będą odbywały się pod okiem instruktorów na stoku w Karlikowie. \nInformacje: Aby uzyskać dodatkowe informacje prosimy kontaktować się z kierownikiem zimowiska dzwoniąc na telefon 501068720Dokumenty\nPobierz i wypełnij: kartę kwalifikacyjną uczestnika zimowiska oraz złóż ją przy zapisie. Karta jest warunkiem dopuszczenia dziecka do zimowiska. Prosimy o dokładne jej wypełnienie(szczególnie informacji dotyczących zdrowia dziecka)\, pozwoli nam to na zapewnienie większego bezpieczeństwa podczas wypoczynku dzieci. \nPobierz i podpisz: umowę uczestnictwa w zimowisku\, przynieś na spotkanie lub odeślij na adres info(at)skrzydlatewakacje.pl\n[separator style_type=”shadow” top_margin=”40″ bottom_margin=”40″ sep_color=”” border_size=”” icon=”” icon_circle=”” icon_circle_color=”” width=”” alignment=”center” class=”” id=””]
URL:https://skrzydlatewakacje.pl/wydarzenie/bajkowe-zimowisko/
LOCATION:Pod Kominkiem\, Komańcza 133\, Komańcza\, podkarpackie\, 38-543\, Polska
CATEGORIES:zimowisko
ATTACH;FMTTYPE=image/jpeg:https://skrzydlatewakacje.pl/wp-content/uploads/2015/02/igloo-finish_2.jpg
ORGANIZER;CN="Fundacja SKRZYD%C5%81A DLA EDUKCJI":MAILTO:info@skrzydlatewakacje.pl
GEO:49.336256;22.071475
X-APPLE-STRUCTURED-LOCATION;VALUE=URI;X-ADDRESS=Pod Kominkiem Komańcza 133 Komańcza podkarpackie 38-543 Polska;X-APPLE-RADIUS=500;X-TITLE=Komańcza 133:geo:22.071475,49.336256
END:VEVENT
BEGIN:VEVENT
DTSTART;TZID=Europe/Warsaw:20140709T100000
DTEND;TZID=Europe/Warsaw:20140718T170000
DTSTAMP:20260425T151936
CREATED:20220208T211352Z
LAST-MODIFIED:20220208T211352Z
UID:10000021-1404900000-1405702800@skrzydlatewakacje.pl
SUMMARY:Obóz wspinaczkowo-rowerowy - Rzędkowice
DESCRIPTION:Obóz wspinaczkowo-rowerowy – Rzędkowice\n– dla dzieci po 2 klasie szkoły podstawowej (8 – 13 lat).\nW najbliższe wakacje pragniemy zaprosić Państwa pociechy w niezwykłą podróż na Jurę Krakowsko- Częstochowską. Jura to przepiękne panoramy\, malownicze dolinki\, imponujące ostańce skalne\, rozległe pustynie\, tajemnicze groty i wzgórza wapienne nad którymi królują liczne średniowieczne zamki. Jura jest wymarzonym miejscem dla każdego\, kto poszukuje aktywnego wypoczynku. W tym roku zapraszamy dzieci do przeżycia niezwykłego obozu podczas którego będziemy doświadczali wielu aktywności.\n\nAtrakcjeKosztyZakwaterowanieTransportExtra Atrakcje \n\nWspinaczka skałkowa – to trening dla ciała i umysłu. Pozwala poznać własne możliwości\, przekraczać wewnętrzne bariery\, buduje w dzieciach poczucie iż potrafią sobie poradzić\, uczy odpowiedzialności za innych. Podczas obozu poznamy masywy skalne znajdujące się w Rzędkowicach\, w rezerwacie przyrody na Górze Zborów\, Górze Kołoczek\, Mirowie i Ogrodzieńcu.\nZajęcia linowe – zawsze niosą ze sobą dużą dawkę emocji. Pokonywanie mostów linowych\, zjazd na tyrolce\, opuszczanie się na linie- są cennymi doświadczeniami pozwalającymi budować poczucie pewności siebie.\nLeśny survival – czyli jak nie zgubić się w lesie\, wybudować szałas\, rozpoznać jadalne rośliny. Zajęcia te pozwolą zdobyć dzieciom przydatne umiejętności korzystania z kompasu\, czytania i tworzenia map oraz budowania prowizorycznych schronisk.\nWycieczki: Do Zamku w Ogrodzieńcu. Zwiedzanie ruin średniowiecznego zamku wzniesionego w XIV-XV wieku. Podczas wycieczki zwiedzimy również Skalne Miasto Podzamcza oraz Gród na Górze Birów.\nRowerowa – do Jaskini Głębokiej znajdującej się w masywie Góry Zborów.\nRowerowa – do Mirowa i Bobolic. Zwiedzanie ruin średniowiecznych zamków oraz masywów skalnych.\nGry strategiczne – Zagramy w ciekawe gry podczas których nauczymy się współpracy\, logicznego myślenia\, radzenia sobie z sytuacjami trudnymi. Konstruując gry wykorzystamy walory otaczającej nas przyrody.\nPogodne wieczory – czas radości i zabawy\, gier zespołowych\, dzielenia się sobą. Każdy uczestnik obozu zostanie cichym przyjacielem\, będzie mógł obdarowywać wylosowaną przez siebie osobę. Sprzyja to kształtowaniu w dzieciach postaw twórczych oraz uczy wrażliwości na drugiego człowieka.\nOgnisko\, dyskoteki… i wiele innych niezapomnianych atrakcji\n\nKoszty\nCena: 1560 zł obejmuje: ubezpieczenie\, przejazd\, zakwaterowanie\, wyżywienie\, opiekę wykwalifikowanej i doświadczonej kadry pedagogicznej oraz ratowników\, atrakcje zawarte w programie obozu; \nAby pojechać z nami na obóz należy: \n\nWpłacić bezzwrotną zaliczkę w wysokości 150 zł która jest warunkiem wpisania na listę.\n1 rata w wysokości 700 zł płatna do dnia 1 maja 2014\nPełnej wpłaty należy dokonać do dnia 15 czerwca 2014 roku na konto Fundacji SKRZYDŁA DLA EDUKACJI (ul. Jutrzenki 24\, 20-538 Lublin)\nBank Pekao SA 67 1240 5497 1111 0010 7774 6910 – z dopiskiem „Rzędkowice”\n\nZakwaterowanie \nWyżywienie: Pełne 3 posiłki dziennie (śniadanie\, obiad\, kolacja).Transport Na miejsce zbiórki prosimy o przybycie minimum 20 minut wcześniej.Extra  \nKadrę obozu stanowią osoby z wieloletnim doświadczeniem pedagogicznym i obozowym. \n\nPobierz i wypełnij: kartę kwalifikacyjną uczestnika obozu oraz złóż ją przy zapisie. Karta jest warunkiem dopuszczenia dziecka do obozu. Prosimy o dokładne jej wypełnienie (szczególnie informacji dotyczących zdrowia)\, pozwoli nam to na zapewnienie większego bezpieczeństwa podczas wypoczynku dzieci.
URL:https://skrzydlatewakacje.pl/wydarzenie/oboz-wspinaczkowo-rowerowy-rzedkowice/
LOCATION:Farma Szkoleniowo-Rekreacyjna Ametyst\, Jurajska 119\, Rzędkowice\, śląskie\, 42-421\, Polska
CATEGORIES:Lato 2014
ATTACH;FMTTYPE=image/jpeg:https://skrzydlatewakacje.pl/wp-content/uploads/2013/07/rzedkowice_14_7_0.jpg
ORGANIZER;CN="Fundacja SKRZYD%C5%81A DLA EDUKCJI":MAILTO:info@skrzydlatewakacje.pl
GEO:50.579237;19.488896
X-APPLE-STRUCTURED-LOCATION;VALUE=URI;X-ADDRESS=Farma Szkoleniowo-Rekreacyjna Ametyst Jurajska 119 Rzędkowice śląskie 42-421 Polska;X-APPLE-RADIUS=500;X-TITLE=Jurajska 119:geo:19.488896,50.579237
END:VEVENT
END:VCALENDAR